Workbook

Sheet Sheet3
A1: Date | B1: Time (days) | C1: Infected | D1: Deaths | E1: Recoverd
A2: Fri Mar 6 2020 | B2: 1 | C2: 2 | D2: 1 | E2: 2
A3: Sat Mar 7 2020 | B3: 2 | C3: 4 | D3: 1 | E3: 2
A4: Sun Mar 8 2020 | B4: 3 | C4: 6 | D4: 1 | E4: 2
A5: Mon Mar 9 2020 | B5: 4 | C5: 10 | D5: 2 | E5: 4
A6: Tue Mar 10 2020 | B6: 5 | C6: 12 | D6: 2 | E6: 16
A7: Wed Mar 11 2020 | B7: 6 | C7: 16 | D7: 6 | E7: 34
A8: Thu Mar 12 2020 | B8: 7 | C8: 22 | D8: 7 | E8: 43
A9: Fri Mar 13 2020 | B9: 8 | C9: 41 | D9: 11 | E9: 71
A10: Sat Mar 14 2020 | B10: 9 | C10: 47 | D10: 16 | E10: 92
A11: Sun Mar 15 2020 | B11: 10 | C11: 63 | D11: 22 | E11: 229
A12: Mon Mar 16 2020 | B12: 11 | C12: 76 | D12: 34 | E12: 345
A13: Tue Mar 17 2020 | B13: 12 | C13: 96 | D13: 38 | E13: 473
... A59: Sat May 2 2020 | B59: 58 | C59: 48305 | D59: 4218 | E59: 7134
A60: Sun May 3 2020 | B60: 59 | C60: 49267 | D60: N/A | E60: 7158
A61: Mon May 4 2020 | B61: 60 | C61: 50092 | D61: N/A | E61: 7260
A62: Tue May 5 2020 | B62: 61 | C62: 50957 | D62: N/A | E62: 7276
A63: Wed May 6 2020 | B63: 62 | C63: 51845 | D63: N/A | E63: 7401
A64: Thu May 7 2020 | B64: 63 | C64: 52915 | D64: N/A | E64: 7417
A65: Fri May 8 2020 | B65: 64 | C65: 54238 | D65: N/A | E65: 7424
A66: Sat May 9 2020 | B66: 65 | C66: 55316 | D66: N/A | E66: 7741
A67: Sun May 10 2020 | B67: 66 | C67: 56611 | D67: N/A | E67: 7771
A68: Mon May 11 2020 | B68: 67 | C68: 57154 | D68: N/A | E68: 7915
A69: Tue May 12 2020 | B69: 68 | C69: 57991 | D69: N/A | E69: 7928
A70: Wed May 13 2020 | B70: 69 | C70: 58698 | D70: N/A | E70: 8326
A71: Thu May 14 2020 | B71: 70 | C71: 59636 | D71: N/A | E71: N/A

Sheet simulation
A1: Time (t) | B1: Suspectible | C1: Infected | D1: Recovered | E1: rate of infection | F1: Rate of recovery | H1: Average Rate of infection | I1: =AVERAGE(E:E) -> 0.37015259 | K1: Constants
A2: =Sheet3!B2 -> 1 | B2: =C71 -> 59636 | C2: =Sheet3!C2 -> 2 | D2: =Sheet3!E2 -> 2 | E2: =C2/(C2+B2) -> 3.3535665e-05 | F2: =D2/(B2+C2) -> 3.3535665e-05 | H2: Average Rate of Recovery | I2: =AVERAGE(F:F) -> 0.074237766 | K2: S=Number od suspectible
A3: =Sheet3!B3 -> 2 | B3: =$C$71-C2 -> 59634 | C3: =Sheet3!C3 -> 4 | D3: =Sheet3!E3 -> 2 | E3: =C3/(C3+B3) -> 6.707133e-05 | F3: =D3/(B3+C3) -> 3.3535665e-05 | K3: I=number of infected
A4: =Sheet3!B4 -> 3 | B4: =$C$71-C3 -> 59632 | C4: =Sheet3!C4 -> 6 | D4: =Sheet3!E4 -> 2 | E4: =C4/(C4+B4) -> 0.000100607 | F4: =D4/(B4+C4) -> 3.3535665e-05 | K4: R=number of recovered
A5: =Sheet3!B5 -> 4 | B5: =$C$71-C4 -> 59630 | C5: =Sheet3!C5 -> 10 | D5: =Sheet3!E5 -> 4 | E5: =C5/(C5+B5) -> 0.0001676727 | F5: =D5/(B5+C5) -> 6.7069081e-05
A6: =Sheet3!B6 -> 5 | B6: =$C$71-C5 -> 59626 | C6: =Sheet3!C6 -> 12 | D6: =Sheet3!E6 -> 16 | E6: =C6/(C6+B6) -> 0.00020121399 | F6: =D6/(B6+C6) -> 0.00026828532
A7: =Sheet3!B7 -> 6 | B7: =$C$71-C6 -> 59624 | C7: =Sheet3!C7 -> 16 | D7: =Sheet3!E7 -> 34 | E7: =C7/(C7+B7) -> 0.00026827632 | F7: =D7/(B7+C7) -> 0.00057008719
A8: =Sheet3!B8 -> 7 | B8: =$C$71-C7 -> 59620 | C8: =Sheet3!C8 -> 22 | D8: =Sheet3!E8 -> 43 | E8: =C8/(C8+B8) -> 0.00036886758 | F8: =D8/(B8+C8) -> 0.00072096845
A9: =Sheet3!B9 -> 8 | B9: =$C$71-C8 -> 59614 | C9: =Sheet3!C9 -> 41 | D9: =Sheet3!E9 -> 71 | E9: =C9/(C9+B9) -> 0.00068728522 | F9: =D9/(B9+C9) -> 0.0011901769
A10: =Sheet3!B10 -> 9 | B10: =$C$71-C9 -> 59595 | C10: =Sheet3!C10 -> 47 | D10: =Sheet3!E10 -> 92 | E10: =C10/(C10+B10) -> 0.00078803528 | F10: =D10/(B10+C10) -> 0.0015425371
A11: =Sheet3!B11 -> 10 | B11: =$C$71-C10 -> 59589 | C11: =Sheet3!C11 -> 63 | D11: =Sheet3!E11 -> 229 | E11: =C11/(C11+B11) -> 0.0010561255 | F11: =D11/(B11+C11) -> 0.0038389325
A12: =Sheet3!B12 -> 11 | B12: =$C$71-C11 -> 59573 | C12: =Sheet3!C12 -> 76 | D12: =Sheet3!E12 -> 345 | E12: =C12/(C12+B12) -> 0.0012741203 | F12: =D12/(B12+C12) -> 0.0057838354
A13: =Sheet3!B13 -> 12 | B13: =$C$71-C12 -> 59560 | C13: =Sheet3!C13 -> 96 | D13: =Sheet3!E13 -> 473 | E13: =C13/(C13+B13) -> 0.0016092262 | F13: =D13/(B13+C13) -> 0.0079287917
A14: =Sheet3!B14 -> 13 | B14: =$C$71-C13 -> 59540 | C14: =Sheet3!C14 -> 133 | D14: =Sheet3!E14 -> 478 | E14: =C14/(C14+B14) -> 0.0022288137 | F14: =D14/(B14+C14) -> 0.0080103229
A15: =Sheet3!B15 -> 14 | B15: =$C$71-C14 -> 59503 | C15: =Sheet3!C15 -> 185 | D15: =Sheet3!E15 -> 1049 | E15: =C15/(C15+B15) -> 0.0030994505 | F15: =D15/(B15+C15) -> 0.017574722
A16: =Sheet3!B16 -> 15 | B16: =$C$71-C15 -> 59451 | C16: =Sheet3!C16 -> 268 | D16: =Sheet3!E16 -> 1295 | E16: =C16/(C16+B16) -> 0.004487684 | F16: =D16/(B16+C16) -> 0.021684891
... A70: =Sheet3!B70 -> 69 | B70: =$C$71-C69 -> 1645 | C70: =Sheet3!C70 -> 58698 | D70: =Sheet3!E70 -> 8326 | E70: =C70/(C70+B70) -> 0.97273917 | F70: =D70/(B70+C70) -> 0.13797789
A71: =Sheet3!B71 -> 70 | B71: =$C$71-C70 -> 938 | C71: =Sheet3!C71 -> 59636 | D71: =Sheet3!E71 -> N/A | E71: =C71/(C71+B71) -> 0.98451481

Sheet SIR-STATE
